BEGIN:VCALENDAR
VERSION:2.0
PRODID:-//Tukios.com/
BEGIN:VEVENT
UID:df2e2fab-8f7e-4d53-947b-b6fbfe4e0487@www.westonsmortuary.com
DTSTAMP:20260420T065810Z
DTSTART:20260502T150000Z
DTEND:20260502T160000Z
SUMMARY:Funeral Service
DESCRIPTION:
URL:https://www.westonsmortuary.com/obituaries/brenda-shields
LOCATION:Friendship Missionary Baptist Church 7141 New Kings Road  
	Jacksonville FL 32219
GEO:30.385461;-81.7318994
END:VEVENT
END:VCALENDAR