BEGIN:VCALENDAR
VERSION:2.0
PRODID:-//Tukios.com/
BEGIN:VEVENT
UID:71a13bc7-e732-4f01-9a3e-20834b81c08f@www.westonsmortuary.com
DTSTAMP:20260420T065604Z
DTSTART:20260502
SUMMARY:Burial
DESCRIPTION:
URL:https://www.westonsmortuary.com/obituaries/brenda-shields
LOCATION: 4519 N Edgewood Dr  Jacksonville FL 32219
GEO:30.3715604;-81.7274181
END:VEVENT
END:VCALENDAR