BEGIN:VCALENDAR
VERSION:2.0
PRODID:-//Tukios.com/
BEGIN:VEVENT
UID:b8606a8d-b008-4cf0-8c56-e5199c74fd95@www.westonsmortuary.com
DTSTAMP:20260420T064518Z
DTSTART:20260501T210000Z
DTEND:20260501T230000Z
SUMMARY:Visitation
DESCRIPTION:
URL:https://www.westonsmortuary.com/obituaries/brenda-shields
LOCATION: 3027 Myrtle Ave N  Jacksonville FL 32209
GEO:30.3565748;-81.6755582
END:VEVENT
END:VCALENDAR