BEGIN:VCALENDAR
VERSION:2.0
PRODID:-//Tukios.com/
BEGIN:VEVENT
UID:4ff4511c-895c-46b4-9911-1ec5f80c8503@www.westonsmortuary.com
DTSTAMP:20260420T195709Z
DTSTART:20260501T150000Z
DTEND:20260501T160000Z
SUMMARY:Memorial Service
DESCRIPTION:
URL:https://www.westonsmortuary.com/obituaries/dhayna-moore
LOCATION: 3027 Myrtle Ave N  Jacksonville FL 32209
GEO:30.3565748;-81.6755582
END:VEVENT
END:VCALENDAR