BEGIN:VCALENDAR
VERSION:2.0
PRODID:-//Tukios.com/
BEGIN:VEVENT
UID:03a71ea0-af4d-4496-a3bc-b64bf0e711ca@www.westonsmortuary.com
DTSTAMP:20260422T043429Z
DTSTART:20260427T210000Z
DTEND:20260427T230000Z
SUMMARY:Viewing
DESCRIPTION:
URL:https://www.westonsmortuary.com/obituaries/harold-samms-jr
LOCATION: 3027 Myrtle Ave N  Jacksonville FL 32209
GEO:30.3565748;-81.6755582
END:VEVENT
END:VCALENDAR