BEGIN:VCALENDAR
VERSION:2.0
PRODID:-//Tukios.com/
BEGIN:VEVENT
UID:1ceea8af-25a1-4413-9055-d0fbab3b30c8@www.westonsmortuary.com
DTSTAMP:20260422T043018Z
DTSTART:20260428T150000Z
DTEND:20260428T160000Z
SUMMARY:Funeral Service
DESCRIPTION:
URL:https://www.westonsmortuary.com/obituaries/harold-samms-jr
LOCATION:St. Phillip's Episcopal Church 321 W Union St  Jacksonville FL 
	32202
GEO:30.3335493;-81.6606529
END:VEVENT
END:VCALENDAR