BEGIN:VCALENDAR
VERSION:2.0
PRODID:-//Tukios.com/
BEGIN:VEVENT
UID:3fed1390-a381-489b-8f0d-b15682025848@www.westonsmortuary.com
DTSTAMP:20260422T043429Z
DTSTART:20260428T173000Z
DTEND:20260428T180000Z
SUMMARY:Interment
DESCRIPTION:
URL:https://www.westonsmortuary.com/obituaries/harold-samms-jr
LOCATION: 4083 Lannie Rd  Jacksonville FL 32218
GEO:30.546554;-81.7189314
END:VEVENT
END:VCALENDAR